BEGIN:VCALENDAR
VERSION:2.0
PRODID:-//ahlshausen.info - ECPv6.3.2//NONSGML v1.0//EN
CALSCALE:GREGORIAN
METHOD:PUBLISH
X-ORIGINAL-URL:http://ahlshausen.info
X-WR-CALDESC:Veranstaltungen für ahlshausen.info
REFRESH-INTERVAL;VALUE=DURATION:PT1H
X-Robots-Tag:noindex
X-PUBLISHED-TTL:PT1H
BEGIN:VTIMEZONE
TZID:Europe/Berlin
BEGIN:DAYLIGHT
TZOFFSETFROM:+0100
TZOFFSETTO:+0200
TZNAME:CEST
DTSTART:20240331T010000
END:DAYLIGHT
BEGIN:STANDARD
TZOFFSETFROM:+0200
TZOFFSETTO:+0100
TZNAME:CET
DTSTART:20241027T010000
END:STANDARD
END:VTIMEZONE
BEGIN:VEVENT
DTSTART;TZID=Europe/Berlin:20240509T100000
DTEND;TZID=Europe/Berlin:20240509T130000
DTSTAMP:20260419T172529
CREATED:20240216T153518Z
LAST-MODIFIED:20240216T153710Z
UID:109-1715248800-1715259600@ahlshausen.info
SUMMARY:Familiengottesdienst zu Himmelfahrt
DESCRIPTION:in Sievershausen10:00UHR wird der Gottesdienst auf der Wiese am Schützenplatz unter freien Himmel stattfinden.
URL:http://ahlshausen.info/event/familiengottesdienst-zu-himmelfahrt/
END:VEVENT
BEGIN:VEVENT
DTSTART;TZID=Europe/Berlin:20240501T100000
DTEND;TZID=Europe/Berlin:20240501T233000
DTSTAMP:20260419T172529
CREATED:20240216T153301Z
LAST-MODIFIED:20240228T160844Z
UID:107-1714557600-1714606200@ahlshausen.info
SUMMARY:Aufstellen des Maibaums und Maiwanderung
DESCRIPTION:Wir treffen uns um 10:00UHR am Maibaum.Ab 10:30UHR starten wir eine leichte auch für Familien geeignete Wanderung. Wie üblich werden wir im Wald eine kleine Pause nit Snacks und Getränken einlegen. Ab 13:00UHR wollen wir den Tag dann am Sportplatz ausklingen lassen. Für Essen und Trinken wir der TSV organisieren.
URL:http://ahlshausen.info/event/aufstellen-des-maibaums-und-maiwanderung/
ATTACH;FMTTYPE=image/png:http://ahlshausen.info/wp-content/uploads/2024/02/Wappenahls.png
END:VEVENT
BEGIN:VEVENT
DTSTART;TZID=Europe/Berlin:20240412T193000
DTEND;TZID=Europe/Berlin:20240412T220000
DTSTAMP:20260419T172529
CREATED:20240203T144356Z
LAST-MODIFIED:20240228T160801Z
UID:65-1712950200-1712959200@ahlshausen.info
SUMMARY:Frau Sonntag und ihr ständiger Begleiter
DESCRIPTION: \n \nFrau Sonntag und ihr ständiger Begleiter mit ihrem neuen Programm : „URLAUB NUTZT NIX“ MisikComedy und ChansonDas Eheleben auf der Bühne geht weiter\, vorgetragen und erlebt mit nicht wenig ironischen Untertönen\, aber immer charmant\, witzig und vor allem voll musikalisch. Frau Sonntag und ihr ständiger Begleiter fahren in den Urlaub\, seit vielen Jahren gemeinsam. Da gibt es das sich aufregende Ehepaar am Nebentisch\, mitten im exotischen Indienurlaub der Besuch bei IKEA oder der Zuckerrausch in einer Pariser Konditorei…. Zwischen den beiden gibt es eine klare Rollenverteilung: als Rasseweib mit roter langer Mähne und einer Stimme\, die von hauchzart bis deftig derb variiert\, singt und instrumentiert Frau Sonntag. Dabei wird sie von ihrem Ehemann am Klavier\, Akkordeon und Tenorhorn virtuos in allen Lebenslagen begleitet. Musikalisches Philosophieren\, liebevolles Streiten\, da sind Lebensweisheiten leidenschaftlich verpackt als MusikComedy. Musikmachende Ehepaare gibt es nicht viele\, doch die Beiden sind eine Bereicherung für die Berliner Szene. Und falls es zuhause mal wieder kriselt – ein Abend mit den beiden ist als Paartherapie vor oder nach Urlaubsreisen mit ungewohnter zwangszweisamkeit durchaus zu empfehlen.Es werden bekannte Melodien neu vertextet und auf eigene musikalische Art gespielt. In den Zwischentexten wird auf kabarettistische Art und Weise das Eheleben in all seinen absurden Facetten gezeigt und gepielt.Leidenschaftlich\, witzig und provokant\n\n\n\n\n\n\n\n\n\n\n\n\n\n \n\n\n\n\n\n \n 
URL:http://ahlshausen.info/event/frau-sonntag-und-ihr-staendiger-begleiter/
ATTACH;FMTTYPE=image/jpeg:http://ahlshausen.info/wp-content/uploads/2024/02/Total.00_01_03_18.jpg
END:VEVENT
BEGIN:VEVENT
DTSTART;TZID=Europe/Berlin:20240216T130000
DTEND;TZID=Europe/Berlin:20240216T160000
DTSTAMP:20260419T172529
CREATED:20240203T152714Z
LAST-MODIFIED:20240203T152714Z
UID:83-1708088400-1708099200@ahlshausen.info
SUMMARY:Traktor & Anhänger TÜV
DESCRIPTION:
URL:http://ahlshausen.info/event/traktor-anhaenger-tuev/
END:VEVENT
BEGIN:VEVENT
DTSTART;TZID=Europe/Berlin:20240210T193000
DTEND;TZID=Europe/Berlin:20240210T210000
DTSTAMP:20260419T172529
CREATED:20240203T152434Z
LAST-MODIFIED:20240203T152434Z
UID:81-1707593400-1707598800@ahlshausen.info
SUMMARY:Jahreshauptversammlung Sozialverband
DESCRIPTION:
URL:http://ahlshausen.info/event/jahreshauptversammlung-sozialverband/
END:VEVENT
BEGIN:VEVENT
DTSTART;TZID=Europe/Berlin:20240203T193000
DTEND;TZID=Europe/Berlin:20240203T213000
DTSTAMP:20260419T172529
CREATED:20240203T143406Z
LAST-MODIFIED:20240203T143406Z
UID:57-1706988600-1706995800@ahlshausen.info
SUMMARY:Jahreshauptveranstaltung Turn- & Sportverein
DESCRIPTION:
URL:http://ahlshausen.info/event/jahreshauptveranstaltung-turn-sportverein/
LOCATION:JJHV TSV Ahlshausen/Sievershausen\, Gasthaus Ludwig Ernst\, Ahlshausen\, 37574\, Deutschland
END:VEVENT
END:VCALENDAR